BEGIN:VCALENDAR
VERSION:2.0
PRODID:-//Eventin//Event Calendar//EN
CALSCALE:GREGORIAN
METHOD:PUBLISH
BEGIN:VEVENT
UID:36c1e3f6ebd6cd08f6ed01eee253f3af@zurich.grunliberale.ch
SUMMARY:Neuzuzügeranlass Altstetten – GLP Kreis 3&9
DESCRIPTION:Liebe Neuzuzüger:innen in Altstetten\nHerzlich willkommen in A
 ltstetten! Wir laden Sie am 8. Mai 2026 um 18.45 Uhr herzlich zum Willkomme
 ns- und Informations-Apéro im Saal des Kirchgemeindehauses Altstetten ein.
 \nWas erwartet Sie?\n\nSpannende Infos über Altstetten\nEinblick ins viels
 eitige Angebot im Quartier\nVertreter:innen von Institutionen\, Organisatio
 nen und Vereinen kennenlernen\n\nWir freuen uns darauf\, Sie persönlich zu
  begrüssen.Weitere Infos: https://quartierverein-altstetten.ch/quartierver
 ein/veranstaltungen/99-neuzuzuegerapero-altstetten-2026Auch die GLP Kreis 3
 &9 wird wieder mit einem Stand mit dabei sein!
LOCATION:Reformierter Kirchgemeindesaal\, Altstetten 
DTSTAMP:20260422T171604Z
DTSTART:20260508T164500Z
DTEND:20260508T193000Z
END:VEVENT
END:VCALENDAR
