BEGIN:VCALENDAR
VERSION:2.0
PRODID:-//Eventin//Event Calendar//EN
CALSCALE:GREGORIAN
METHOD:PUBLISH
BEGIN:VEVENT
UID:a1590d1ef3b00c6d46bf7fbc047e7b6f@zurich.grunliberale.ch
SUMMARY:Vorstandssitzung – GLP Kreis 3&9 (Vorschlag KR-Liste)
DESCRIPTION:In dieser Vorstandssitzung werden wir einen Listenvorschlag fü
 r die Kantonsratswahlen zu Handen der Mitgliederversammlung vom 29. Juni er
 stellenMöchtest du uns kennenlernen und mitdiskutieren? Dann melde dich je
 tzt bei unserem Co-Präsidenten\, Daniel Rüegg per Mail an! Wir freuen uns
  auf dich!\nTraktandenliste (folgt zu einem späteren Zeitpunkt)
LOCATION:Platzhirsch\, Bernhard Jaeggi-Weg 35\, 8055 Zürich
DTSTAMP:20260422T171613Z
DTSTART:20260615T170000Z
DTEND:20260615T193000Z
END:VEVENT
END:VCALENDAR
